BEGIN:VCALENDAR
VERSION:2.0
PRODID:-//Plone.org//NONSGML plone.app.event//EN
X-WR-TIMEZONE:America/Maceio
BEGIN:VEVENT
SUMMARY:VII Encontro Nacional de História da UFAL: o historiador e suas f
 ontes
DTSTART;TZID=America/Maceio:20151126T160000
DTEND;TZID=America/Maceio:20151128T200000
DTSTAMP:20260420T045755Z
UID:bbd7e84f85f34eb49a091795f89ad44a@ichca.ufal.br
CONTACT:https://nesemufal.wordpress.com/eventos/
CREATED:20151028T190809Z
LAST-MODIFIED:20221018T105936Z
LOCATION:Centro de convenções de Maceió
URL:https://ichca.ufal.br/pt-br/institucional/informes/vii-encontro-nacion
 al-de-historia-da-ufal-o-historiador-e-suas-fontes
END:VEVENT
BEGIN:VTIMEZONE
TZID:America/Maceio
X-LIC-LOCATION:America/Maceio
BEGIN:STANDARD
DTSTART:20020216T230000
TZNAME:-03
TZOFFSETFROM:-0200
TZOFFSETTO:-0300
END:STANDARD
END:VTIMEZONE
END:VCALENDAR
