BEGIN:VCALENDAR
VERSION:2.0
PRODID:-//Plone.org//NONSGML plone.app.event//EN
X-WR-TIMEZONE:America/Maceio
BEGIN:VEVENT
SUMMARY:30°CONGRESSO ACADÊMICO DE INICIAÇÃO CEINTIFICA (PIBIC) E 13° 
 SEMINÁRIO DE INICIAÇÃO EM DESENVOLVIMENTO TECNOLÓGICO E INIVAÇÃO
DTSTART;VALUE=DATE:20210223
DTEND;VALUE=DATE:20210227
DTSTAMP:20260420T184334Z
UID:4e46e4d5c22c413bb5b92805fe31272a@ichca.ufal.br
CREATED:20210223T232801Z
DESCRIPTION:PIBIC
LAST-MODIFIED:20221018T105958Z
LOCATION:On Line
URL:https://ichca.ufal.br/pt-br/institucional/eventos/30degcongresso-acade
 mico-de-iniciacao-ceintifica-pibic-e-13deg-seminario-de-iniciacao-em-desen
 volvimento-tecnologico-e-inivacao
END:VEVENT
END:VCALENDAR
