BEGIN:VCALENDAR
VERSION:2.0
PRODID:-//Plone.org//NONSGML plone.app.event//EN
X-WR-TIMEZONE:America/Maceio
BEGIN:VEVENT
SUMMARY:Colóquio sobre Gênero\, Raça e Sexualidade chega a 5ª edição
  na Ufal
DTSTART;TZID=America/Maceio:20230516T133000
DTEND;TZID=America/Maceio:20230518T193000
DTSTAMP:20260420T151404Z
UID:df9095cedad642aa850c9fcf8c8744c9@ichca.ufal.br
CREATED:20230509T202601Z
DESCRIPTION:Atividade terá lançamento de livros\, homenagens\, exposiç
 ão fotográfica e debates com pesquisadores de todo o país
LAST-MODIFIED:20230509T202620Z
URL:https://ichca.ufal.br/pt-br/graduacao/historia/institucional/informes/
 coloquio-sobre-genero-raca-e-sexualidade-chega-a-5a-edicao-na-ufal
END:VEVENT
BEGIN:VTIMEZONE
TZID:America/Maceio
X-LIC-LOCATION:America/Maceio
BEGIN:STANDARD
DTSTART:20020216T230000
TZNAME:-03
TZOFFSETFROM:-0200
TZOFFSETTO:-0300
END:STANDARD
END:VTIMEZONE
END:VCALENDAR
