BEGIN:VCALENDAR
VERSION:2.0
PRODID:-//Plone.org//NONSGML plone.app.event//EN
X-WR-TIMEZONE:America/Maceio
BEGIN:VEVENT
SUMMARY:12º Encontro Nacional de História e 1º Encontro Internacional d
 e História da UFAL
DTSTART;TZID=America/Maceio:20210908T140000
DTEND;TZID=America/Maceio:20210910T221000
DTSTAMP:20260421T014249Z
UID:5fee1cf9ba264ceaba0a5c6fa340b98d@ichca.ufal.br
CONTACT:Centro de Pesquisa e Documentação Histórica (CPDHis-UFAL)\, cpd
 hisufal@gmail.com\, https://www.even3.com.br/12enhufal2021/
CREATED:20210831T094913Z
DESCRIPTION:Os cursos de História\, graduação e pós-graduação\, conv
 idam a toda comunidade acadêmica e externa para as atividades do seu Enco
 ntro\, que nesta edição traz a temática "Genocídios na História: pass
 ados\, presentes\, futuros".
LAST-MODIFIED:20221018T111340Z
LOCATION:Canal do CPDHis no Youtube
URL:https://ichca.ufal.br/pt-br/graduacao/historia-bacharelado/institucion
 al/informes/12o-encontro-nacional-de-historia-e-1o-encontro-internacional-
 de-historia-da-ufal
END:VEVENT
BEGIN:VTIMEZONE
TZID:America/Maceio
X-LIC-LOCATION:America/Maceio
BEGIN:STANDARD
DTSTART:20020216T230000
TZNAME:-03
TZOFFSETFROM:-0200
TZOFFSETTO:-0300
END:STANDARD
END:VTIMEZONE
END:VCALENDAR
